BEGIN:VCALENDAR
VERSION:2.0
PRODID:-//Esra e.V. - ECPv6.15.17.1//NONSGML v1.0//EN
CALSCALE:GREGORIAN
METHOD:PUBLISH
X-WR-CALNAME:Esra e.V.
X-ORIGINAL-URL:https://wp.esra-ev.org
X-WR-CALDESC:Veranstaltungen für Esra e.V.
REFRESH-INTERVAL;VALUE=DURATION:PT1H
X-Robots-Tag:noindex
X-PUBLISHED-TTL:PT1H
BEGIN:VTIMEZONE
TZID:Europe/Berlin
BEGIN:DAYLIGHT
TZOFFSETFROM:+0100
TZOFFSETTO:+0200
TZNAME:CEST
DTSTART:20250330T010000
END:DAYLIGHT
BEGIN:STANDARD
TZOFFSETFROM:+0200
TZOFFSETTO:+0100
TZNAME:CET
DTSTART:20251026T010000
END:STANDARD
BEGIN:DAYLIGHT
TZOFFSETFROM:+0100
TZOFFSETTO:+0200
TZNAME:CEST
DTSTART:20260329T010000
END:DAYLIGHT
BEGIN:STANDARD
TZOFFSETFROM:+0200
TZOFFSETTO:+0100
TZNAME:CET
DTSTART:20261025T010000
END:STANDARD
BEGIN:DAYLIGHT
TZOFFSETFROM:+0100
TZOFFSETTO:+0200
TZNAME:CEST
DTSTART:20270328T010000
END:DAYLIGHT
BEGIN:STANDARD
TZOFFSETFROM:+0200
TZOFFSETTO:+0100
TZNAME:CET
DTSTART:20271031T010000
END:STANDARD
END:VTIMEZONE
BEGIN:VEVENT
DTSTART;TZID=Europe/Berlin:20260314T153000
DTEND;TZID=Europe/Berlin:20260314T153000
DTSTAMP:20260424T105519
CREATED:20260110T160933Z
LAST-MODIFIED:20260110T173612Z
UID:1387-1773502200-1773502200@wp.esra-ev.org
SUMMARY:Esra JuGo: Gottes Verheißungen an Abraham
DESCRIPTION:https://esra-ev.org/wp-content/uploads/2026/01/2026-03-EsraJuGo-KeinTitel.mp4\nwir freuen uns\, dich ganz herzlich zum nächsten Esra JuGo einzuladen! \nWann? Samstag\, 14. März 2026 \nWo? In Schwabach\, Liebigstraße 3 \nBeginn: Check-In ab 15:30 Uhr\, Start um 16:00 Uhr \n  \n🔥 Thema: \nIm Mittelpunkt steht dieses Mal Gottes Verheißung an Abraham (1. Mose 12–15) – und wie er damit umgeht\, als es schwierig wird (Kapitel 16ff). \nIsmael oder Isaak? Eigene Leistung oder Glaube? \nWas bedeutet das für unseren Alltag als Christen? \nMelde dich gerne bei Fragen – wir freuen uns\, wenn du (wieder) dabei bist! \nLass dich ermutigen\, herausfordern und erlebe mit uns Gemeinschaft. \n  \nDas zeichnet den ESRA JuGo aus: \n\nPackende Predigt zu einem spannenden Thema aus der Bibel\nGemeinsamer Lobpreis und Gebet\nLockere Gemeinschaft mit jungen Christen aus der Region\nErmutigung und geistliche Auferbauung sind unser tiefer Wunsch\n\nWeitere Informationen: \n\nDauer: ca. 4–5 Stunden\nAlter: ab 14 Jahren\nAnmeldung: nicht erforderlich\n\nLass dich ermutigen\, herausfordern und bau mit uns echte Gemeinschaft.\nWir freuen uns auf dich! \nDein ESRA Team
URL:https://wp.esra-ev.org/event/esra-jugo-abrahams-verheissungen/
LOCATION:Christliche Versammlung Schwabach\, Liebigstraße 3\, Schwabach\, Bayern\, 91126
CATEGORIES:Esra JuGo
ATTACH;FMTTYPE=image/jpeg:https://wp.esra-ev.org/wp-content/uploads/2026/01/2026-03-EsraJuGo-KeinTitel.jpg
END:VEVENT
END:VCALENDAR