BEGIN:VCALENDAR
VERSION:2.0
PRODID:-//Esra e.V. - ECPv6.15.17.1//NONSGML v1.0//EN
CALSCALE:GREGORIAN
METHOD:PUBLISH
X-WR-CALNAME:Esra e.V.
X-ORIGINAL-URL:https://wp.esra-ev.org
X-WR-CALDESC:Veranstaltungen für Esra e.V.
REFRESH-INTERVAL;VALUE=DURATION:PT1H
X-Robots-Tag:noindex
X-PUBLISHED-TTL:PT1H
BEGIN:VTIMEZONE
TZID:Europe/Berlin
BEGIN:DAYLIGHT
TZOFFSETFROM:+0100
TZOFFSETTO:+0200
TZNAME:CEST
DTSTART:20240331T010000
END:DAYLIGHT
BEGIN:STANDARD
TZOFFSETFROM:+0200
TZOFFSETTO:+0100
TZNAME:CET
DTSTART:20241027T010000
END:STANDARD
BEGIN:DAYLIGHT
TZOFFSETFROM:+0100
TZOFFSETTO:+0200
TZNAME:CEST
DTSTART:20250330T010000
END:DAYLIGHT
BEGIN:STANDARD
TZOFFSETFROM:+0200
TZOFFSETTO:+0100
TZNAME:CET
DTSTART:20251026T010000
END:STANDARD
BEGIN:DAYLIGHT
TZOFFSETFROM:+0100
TZOFFSETTO:+0200
TZNAME:CEST
DTSTART:20260329T010000
END:DAYLIGHT
BEGIN:STANDARD
TZOFFSETFROM:+0200
TZOFFSETTO:+0100
TZNAME:CET
DTSTART:20261025T010000
END:STANDARD
END:VTIMEZONE
BEGIN:VEVENT
DTSTART;TZID=Europe/Berlin:20250719T090000
DTEND;TZID=Europe/Berlin:20250719T180000
DTSTAMP:20260424T105344
CREATED:20241231T140300Z
LAST-MODIFIED:20250719T211103Z
UID:770-1752915600-1752948000@wp.esra-ev.org
SUMMARY:Esra JuGo: Jugendtag 2025
DESCRIPTION:Es ist endlich wieder so weit – nach 6 Jahren findet wieder ein Jugendtag in Franken statt! Am 19. Juli laden wir dich herzlich zum Esra Jugendtag in Roth ein. Egal ob du als Teenie\, junger Erwachsener oder irgendwo dazwischen unterwegs bist – das Thema ist relevant für dich relevant! \nGemeinsam wollen wir tiefer darüber nachdenken\, was Gott und sein Wort uns durch Daniel Pfleiderer zum Thema Beziehung – in Freundschaft\, Singlesein und Partnerschaft sagt. Sei dabei\, triff alte und neue Freunde und lass dich ermutigen! \n➡️ Jetzt anmelden und Platz sichern!\nBis zum 06.07. 23:59 gab es den Early Bird. \nDas ist der Jugendtag in Kürze: \n\nBibelbasiert: Für echte Veränderung im Leben brauchen wir allein Gottes Wort\nGemeindefördernd: Bringe dich und deine Gaben in deiner Gemeinde ein\nLebensnah: Predigten\, die in dein Leben hineinsprechen\nLobpreis: Gott allein verdient unsere Anbetung und Dank\nGemeinschaftsfördernd: Essen\, Spiele\, Sport\, Spaß und guter Austausch\n\nAblauf: \n\n\n\n\nUhrzeit \n\n\nProgrammpunkt \n\n\n\n\n\n\n09:00 \n\n\nEinlass \n\n\n\n\n09:30 \n\n\nFake Love?\nWas eine gesunde Beziehung ausmacht – und warum es so oft schiefgeht \n\n\n\n\n10:45 \n\n\nKaffeepause \n\n\n\n\n11:15 \n\n\nFünf krasse Beziehungs-Killer –\noder: Wie du eine Beziehung in 10 Sekunden kaputt machst \n\n\n\n\n12:30 \n\n\nMittagessen \n\n\n\n\n15:00 \n\n\nLiebe\, Lust & Jesus\npasst das überhaupt zusammen? \n\n\n\n\n16:00 \n\n\nKaffeepause \n\n\n\n\n16:30 \n\n\nAufbruch in eine neue Generation\nDein Leben macht den Unterschied! \n\n\n\n\n18:00 \n\n\nEnde & Abbau \n\n\n\n\nWeitere Informationen: \n\nDauer: 1 Tag\nAlter: ab 14 Jahren\nAnmeldung: erforderlich\nKosten: Early Bird: 10€ ; kurzfristige Anmeldungen: 15€\n\nWas du mitbringen kannst: \n\nDie Mittagspause ist draußen: Decken und Campingstühle mitbringen
URL:https://wp.esra-ev.org/event/esra-jugo-jugendtag/
LOCATION:Ecclesia Roth\, Otto-Schrimpff-Straße 4\, Roth\, Bayern\, 91154\, Germany
CATEGORIES:Jugendtag
ATTACH;FMTTYPE=image/jpeg:https://wp.esra-ev.org/wp-content/uploads/2024/12/Kachel_Jugendtag_mitThema-scaled.jpg
END:VEVENT
END:VCALENDAR