BEGIN:VCALENDAR
VERSION:2.0
PRODID:-//Esra e.V. - ECPv6.15.17.1//NONSGML v1.0//EN
CALSCALE:GREGORIAN
METHOD:PUBLISH
X-WR-CALNAME:Esra e.V.
X-ORIGINAL-URL:https://wp.esra-ev.org
X-WR-CALDESC:Veranstaltungen für Esra e.V.
REFRESH-INTERVAL;VALUE=DURATION:PT1H
X-Robots-Tag:noindex
X-PUBLISHED-TTL:PT1H
BEGIN:VTIMEZONE
TZID:Europe/Berlin
BEGIN:DAYLIGHT
TZOFFSETFROM:+0100
TZOFFSETTO:+0200
TZNAME:CEST
DTSTART:20240331T010000
END:DAYLIGHT
BEGIN:STANDARD
TZOFFSETFROM:+0200
TZOFFSETTO:+0100
TZNAME:CET
DTSTART:20241027T010000
END:STANDARD
BEGIN:DAYLIGHT
TZOFFSETFROM:+0100
TZOFFSETTO:+0200
TZNAME:CEST
DTSTART:20250330T010000
END:DAYLIGHT
BEGIN:STANDARD
TZOFFSETFROM:+0200
TZOFFSETTO:+0100
TZNAME:CET
DTSTART:20251026T010000
END:STANDARD
BEGIN:DAYLIGHT
TZOFFSETFROM:+0100
TZOFFSETTO:+0200
TZNAME:CEST
DTSTART:20260329T010000
END:DAYLIGHT
BEGIN:STANDARD
TZOFFSETFROM:+0200
TZOFFSETTO:+0100
TZNAME:CET
DTSTART:20261025T010000
END:STANDARD
END:VTIMEZONE
BEGIN:VEVENT
DTSTART;VALUE=DATE:20250124
DTEND;VALUE=DATE:20250128
DTSTAMP:20260424T122122
CREATED:20241217T102342Z
LAST-MODIFIED:20250111T082356Z
UID:626-1737687600-1737946799@wp.esra-ev.org
SUMMARY:JFB: Frühjahr 2025
DESCRIPTION:Ein Fisch\, ein Wurm und sieben knackige Erkenntnisse\nDer Prophet Jona ist eine der bekanntesten Persönlichkeiten in der Missionsgeschichte Gottes. Er kommt aber in unserer Beurteilung nicht gut weg: im besten Fall wird er belächelt\, nicht selten steht sein negatives Beispiel mitten auf der Bühne. Wie werden uns mit ihm beschäftigen – und intensiv mit einem anderen Akteur\, der viel wichtiger ist als der berühmte Fisch aus Kap. 1 oder der Wurm aus Kap. 4: wir entdecken wieder neu unseren Gott\, der selbst Menschenliebt\, denen wir das Schlimmste an den Hals wünschen\, der widerstrebende Mitarbeiter für seine Ziele genauso einsetzt wie die scheinbaren Zufälle des Lebens. \n\n\n\n\n\n\nBeginn und Ende: ab Freitag den 24.01.2025 (Beginn mit Abendessen 18:00 Uhr) bis Sonntag den 26.01.2025 bis nach dem Mittagessen. \nAnmeldung bis spätestens Freitag\, den 17.01.2025 \nAbmeldung bis spätestens Freitag\, den 17.01.2025. Wer sich nicht bis dahin abmeldet zahlt den vollen Preis! Bitte habt einfach Verständnis dafür. \n\n\n\n\n\n\nMindestalter: 15 Jahre \nUnterkunft: Gästehaus Felsengrund Zavelstein\, mit Einzel oder Doppelzimmern\, nach Wunsch auch in Mehrbettzimmern. \nBitte mitbringen: Bettwäsche und Handtücher selber mitbringen oder gegen Aufpreis vom Hotel zu bekommen. Bibel und Schreibzeug\, Konkordanz\, Musikinstrumente\, Hausschuhe. \nKosten: Das gesamte JFB Wochenende kostet 110\,- Euro. \nDie Kontodaten für die Teilnehmer werden euch kurz vor der JFB per Mail mitgeteilt. \nBesonderheiten des JFB Wochenendes: Komfortable Unterbringung in einem christlichen Gästehaus im Kurort\, biblischer Unterricht im JFB-Stil ohne Urlaub nehmen zu müssen\, da am WE. Ruhig schlafen im Einzel oder Doppelzimmer. \nAdresse: Haus Felsengrund; Weltenschwanner Str. 25\, 75385 Bad Teinach-Zavelstein \n  \nAnmeldung
URL:https://wp.esra-ev.org/event/jfb-fruehling-2025/
LOCATION:Haus Felsengrund\, Weltenschwanner Str. 25\, Bad Teinach-Zavelstein\, Baden-Würtemberg\, 75385\, Germany
CATEGORIES:JFB
ATTACH;FMTTYPE=image/jpeg:https://wp.esra-ev.org/wp-content/uploads/2025/01/Kachel_JFB-Fruehling-scaled.jpg
END:VEVENT
END:VCALENDAR